BEGIN:VCALENDAR
VERSION:2.0
PRODID:-//ADEBA | Asociación de Bancos Argentinos - ECPv4.6.7//NONSGML v1.0//EN
CALSCALE:GREGORIAN
METHOD:PUBLISH
X-WR-CALNAME:ADEBA | Asociación de Bancos Argentinos
X-ORIGINAL-URL:https://www.adeba.com.ar
X-WR-CALDESC:Events for ADEBA | Asociación de Bancos Argentinos
BEGIN:VEVENT
DTSTART;TZID=UTC-3:20231011T093000
DTEND;TZID=UTC-3:20231011T123000
DTSTAMP:20260424T060153
CREATED:20230906T200017Z
LAST-MODIFIED:20230906T200017Z
UID:33899-1697016600-1697027400@www.adeba.com.ar
SUMMARY:Factura de Crédito Electrónica: Teoría y Práctica para generar beneficios financieros (streaming)
DESCRIPTION:Factura de Crédito Electrónica: Teoría y Práctica para generar beneficios financieros (streaming) \n \n
URL:https://www.adeba.com.ar/event/factura-de-credito-electronica-teoria-y-practica-para-generar-beneficios-financieros-streaming/
END:VEVENT
END:VCALENDAR