BEGIN:VCALENDAR
VERSION:2.0
PRODID:-//ADEBA | Asociación de Bancos Argentinos - ECPv4.6.7//NONSGML v1.0//EN
CALSCALE:GREGORIAN
METHOD:PUBLISH
X-WR-CALNAME:ADEBA | Asociación de Bancos Argentinos
X-ORIGINAL-URL:https://www.adeba.com.ar/en
X-WR-CALDESC:Events for ADEBA | Asociación de Bancos Argentinos
BEGIN:VEVENT
DTSTART;TZID=UTC-3:20231018T093000
DTEND;TZID=UTC-3:20231018T123000
DTSTAMP:20260424T184652
CREATED:20230906T195738Z
LAST-MODIFIED:20230906T195745Z
UID:33889-1697621400-1697632200@www.adeba.com.ar
SUMMARY:Operaciones de Importación y Exportación – streaming
DESCRIPTION:Operaciones de Importación y Exportación – streaming \n \n
URL:https://www.adeba.com.ar/en/event/operaciones-de-importacion-y-exportacion-streaming/
END:VEVENT
END:VCALENDAR