BEGIN:VCALENDAR
VERSION:2.0
PRODID:-//ADEBA | Asociación de Bancos Argentinos - ECPv4.6.7//NONSGML v1.0//EN
CALSCALE:GREGORIAN
METHOD:PUBLISH
X-WR-CALNAME:ADEBA | Asociación de Bancos Argentinos
X-ORIGINAL-URL:https://www.adeba.com.ar/en
X-WR-CALDESC:Events for ADEBA | Asociación de Bancos Argentinos
BEGIN:VEVENT
DTSTART;TZID=UTC-3:20231003T093000
DTEND;TZID=UTC-3:20231003T123000
DTSTAMP:20260423T170418
CREATED:20230906T200427Z
LAST-MODIFIED:20230906T200427Z
UID:33915-1696325400-1696336200@www.adeba.com.ar
SUMMARY:Normas del BCRA para las Entidades Financieras (streaming)
DESCRIPTION:Normas del BCRA para las Entidades Financieras (streaming) \n \n
URL:https://www.adeba.com.ar/en/event/normas-del-bcra-para-las-entidades-financieras-streaming/
END:VEVENT
END:VCALENDAR