BEGIN:VCALENDAR
VERSION:2.0
PRODID:-//ADEBA | Asociación de Bancos Argentinos - ECPv4.6.7//NONSGML v1.0//EN
CALSCALE:GREGORIAN
METHOD:PUBLISH
X-WR-CALNAME:ADEBA | Asociación de Bancos Argentinos
X-ORIGINAL-URL:https://www.adeba.com.ar/en
X-WR-CALDESC:Events for ADEBA | Asociación de Bancos Argentinos
BEGIN:VEVENT
DTSTART;TZID=UTC-3:20230921T093000
DTEND;TZID=UTC-3:20230921T123000
DTSTAMP:20260421T062637
CREATED:20230906T200813Z
LAST-MODIFIED:20230906T200813Z
UID:33931-1695288600-1695299400@www.adeba.com.ar
SUMMARY:Riesgo de Crédito (streaming)
DESCRIPTION:Riesgo de Crédito (streaming) \n \n
URL:https://www.adeba.com.ar/en/event/riesgo-de-credito-streaming-2/
END:VEVENT
END:VCALENDAR