BEGIN:VCALENDAR
VERSION:2.0
PRODID:-//ADEBA | Asociación de Bancos Argentinos - ECPv4.6.7//NONSGML v1.0//EN
CALSCALE:GREGORIAN
METHOD:PUBLISH
X-WR-CALNAME:ADEBA | Asociación de Bancos Argentinos
X-ORIGINAL-URL:https://www.adeba.com.ar/en
X-WR-CALDESC:Events for ADEBA | Asociación de Bancos Argentinos
BEGIN:VEVENT
DTSTART;TZID=UTC-3:20230920T093000
DTEND;TZID=UTC-3:20230920T123000
DTSTAMP:20260421T045001
CREATED:20230906T200714Z
LAST-MODIFIED:20230906T200714Z
UID:33927-1695202200-1695213000@www.adeba.com.ar
SUMMARY:Riesgo de Crédito (streaming)
DESCRIPTION:Riesgo de Crédito (streaming) \n \n
URL:https://www.adeba.com.ar/en/event/riesgo-de-credito-streaming/
END:VEVENT
BEGIN:VEVENT
DTSTART;TZID=UTC-3:20230920T093000
DTEND;TZID=UTC-3:20230920T123000
DTSTAMP:20260421T045001
CREATED:20230906T201240Z
LAST-MODIFIED:20230906T201240Z
UID:33945-1695202200-1695213000@www.adeba.com.ar
SUMMARY:SAP – Finanzas Programa Modular orientación bancaria (streaming)
DESCRIPTION:SAP – Finanzas Programa Modular orientación bancaria (streaming) \n \n
URL:https://www.adeba.com.ar/en/event/sap-finanzas-programa-modular-orientacion-bancaria-streaming-4/
END:VEVENT
END:VCALENDAR