BEGIN:VCALENDAR
VERSION:2.0
PRODID:-//ADEBA | Asociación de Bancos Argentinos - ECPv4.6.7//NONSGML v1.0//EN
CALSCALE:GREGORIAN
METHOD:PUBLISH
X-WR-CALNAME:ADEBA | Asociación de Bancos Argentinos
X-ORIGINAL-URL:https://www.adeba.com.ar/en
X-WR-CALDESC:Events for ADEBA | Asociación de Bancos Argentinos
BEGIN:VEVENT
DTSTART;TZID=UTC-3:20230906T080000
DTEND;TZID=UTC-3:20230906T170000
DTSTAMP:20260421T234658
CREATED:20230906T200326Z
LAST-MODIFIED:20230906T200326Z
UID:33911-1693987200-1694019600@www.adeba.com.ar
SUMMARY:Usando Calidad y Gobernanza de TI en adecuación del GAP ante Norma A7724 – streaming
DESCRIPTION:Usando Calidad y Gobernanza de TI en adecuación del GAP  ante Norma A7724 – streaming \n \n
URL:https://www.adeba.com.ar/en/event/usando-calidad-y-gobernanza-de-ti-en-adecuacion-del-gap-ante-norma-a7724-streaming/
END:VEVENT
BEGIN:VEVENT
DTSTART;TZID=UTC-3:20230906T080000
DTEND;TZID=UTC-3:20230906T170000
DTSTAMP:20260421T234658
CREATED:20230906T200509Z
LAST-MODIFIED:20230906T200509Z
UID:33919-1693987200-1694019600@www.adeba.com.ar
SUMMARY:Normas del BCRA para las Entidades Financieras (streaming)
DESCRIPTION:Normas del BCRA para las Entidades Financieras (streaming) \n \n
URL:https://www.adeba.com.ar/en/event/normas-del-bcra-para-las-entidades-financieras-streaming-2/
END:VEVENT
BEGIN:VEVENT
DTSTART;TZID=UTC-3:20230906T093000
DTEND;TZID=UTC-3:20230906T123000
DTSTAMP:20260421T234658
CREATED:20230906T200559Z
LAST-MODIFIED:20230906T200559Z
UID:33923-1693992600-1694003400@www.adeba.com.ar
SUMMARY:Desafíos ante la Norma A7724 – streaming
DESCRIPTION:Desafíos ante la Norma A7724 – streaming \n \n
URL:https://www.adeba.com.ar/en/event/desafios-ante-la-norma-a7724-streaming/
END:VEVENT
END:VCALENDAR