BEGIN:VCALENDAR
VERSION:2.0
PRODID:-//ADEBA | Asociación de Bancos Argentinos - ECPv4.6.7//NONSGML v1.0//EN
CALSCALE:GREGORIAN
METHOD:PUBLISH
X-WR-CALNAME:ADEBA | Asociación de Bancos Argentinos
X-ORIGINAL-URL:https://www.adeba.com.ar/en
X-WR-CALDESC:Events for ADEBA | Asociación de Bancos Argentinos
BEGIN:VEVENT
DTSTART;VALUE=DATE:20210324
DTEND;VALUE=DATE:20210325
DTSTAMP:20260419T150742
CREATED:20200204T004225Z
LAST-MODIFIED:20210127T221944Z
UID:12339-1616544000-1616630399@www.adeba.com.ar
SUMMARY:Día Nacional de la Memoria por la Verdad y la Justicia
DESCRIPTION:
URL:https://www.adeba.com.ar/en/event/dia-nacional-de-la-memoria-por-la-verdad-y-la-justicia-2/
END:VEVENT
END:VCALENDAR