BEGIN:VCALENDAR
VERSION:2.0
PRODID:-//ADEBA | Asociación de Bancos Argentinos - ECPv4.6.7//NONSGML v1.0//EN
CALSCALE:GREGORIAN
METHOD:PUBLISH
X-WR-CALNAME:ADEBA | Asociación de Bancos Argentinos
X-ORIGINAL-URL:https://www.adeba.com.ar/en
X-WR-CALDESC:Events for ADEBA | Asociación de Bancos Argentinos
BEGIN:VEVENT
DTSTART;TZID=UTC-3:20230906T093000
DTEND;TZID=UTC-3:20230906T123000
DTSTAMP:20260422T013114
CREATED:20230906T200559Z
LAST-MODIFIED:20230906T200559Z
UID:33923-1693992600-1694003400@www.adeba.com.ar
SUMMARY:Desafíos ante la Norma A7724 – streaming
DESCRIPTION:Desafíos ante la Norma A7724 – streaming \n \n
URL:https://www.adeba.com.ar/en/event/desafios-ante-la-norma-a7724-streaming/
END:VEVENT
END:VCALENDAR